BEGIN:VCALENDAR
VERSION:2.0
PRODID:-//Communauté de communes Dronne et belle - ECPv6.11.2.1//NONSGML v1.0//EN
CALSCALE:GREGORIAN
METHOD:PUBLISH
X-ORIGINAL-URL:https://dronneetbelle.fr
X-WR-CALDESC:Évènements pour Communauté de communes Dronne et belle
REFRESH-INTERVAL;VALUE=DURATION:PT1H
X-Robots-Tag:noindex
X-PUBLISHED-TTL:PT1H
BEGIN:VTIMEZONE
TZID:Europe/Paris
BEGIN:DAYLIGHT
TZOFFSETFROM:+0100
TZOFFSETTO:+0200
TZNAME:CEST
DTSTART:20240331T010000
END:DAYLIGHT
BEGIN:STANDARD
TZOFFSETFROM:+0200
TZOFFSETTO:+0100
TZNAME:CET
DTSTART:20241027T010000
END:STANDARD
END:VTIMEZONE
BEGIN:VEVENT
DTSTART;TZID=Europe/Paris:20240718T100000
DTEND;TZID=Europe/Paris:20240718T210000
DTSTAMP:20260423T194528
CREATED:20240625T101540Z
LAST-MODIFIED:20240625T101540Z
UID:2492-1721296800-1721336400@dronneetbelle.fr
SUMMARY:Journée sport à la Micro-Folie
DESCRIPTION:
URL:https://dronneetbelle.fr/evenement/journee-sport-a-la-micro-folie/
LOCATION:2 Rue Puyjoli de Meyjousnissas\, 24310 Brantôme-en-Périgord\, 2 Rue Puyjoli de Meyjousnissas\, Brantôme\, 24310\, France
CATEGORIES:Micro-Folie
END:VEVENT
BEGIN:VEVENT
DTSTART;TZID=Europe/Paris:20240711T190000
DTEND;TZID=Europe/Paris:20240711T190000
DTSTAMP:20260423T194528
CREATED:20240625T101418Z
LAST-MODIFIED:20240625T101418Z
UID:2489-1720724400-1720724400@dronneetbelle.fr
SUMMARY:Micro-Folie : Le Japon dans l'art
DESCRIPTION:
URL:https://dronneetbelle.fr/evenement/micro-folie-le-japon-dans-lart/
LOCATION:2 Rue Puyjoli de Meyjousnissas\, 24310 Brantôme-en-Périgord\, 2 Rue Puyjoli de Meyjousnissas\, Brantôme\, 24310\, France
CATEGORIES:Micro-Folie
END:VEVENT
BEGIN:VEVENT
DTSTART;VALUE=DATE:20240622
DTEND;VALUE=DATE:20240624
DTSTAMP:20260423T194528
CREATED:20240606T085501Z
LAST-MODIFIED:20240606T085501Z
UID:2438-1719014400-1719187199@dronneetbelle.fr
SUMMARY:Week End Prospection Libellules
DESCRIPTION:Dans le cadre du Plan National d’actions en faveur des libellules\, un camp de prospection bénévole en Dordogne est organisé\, et notamment sur une partie de notre territoire. Les communes concernées par ces inventaires sont : \n\nBourdeilles\nBrantôme en Périgord\nCondat-sur-Trincou\nMareuil en Périgord\nQuinsac\nSaint-Félix de Bourdeilles\nVillars\n\nPlus d’infos ici.
URL:https://dronneetbelle.fr/evenement/week-end-prospection-libellules/
CATEGORIES:Environnement
ATTACH;FMTTYPE=image/jpeg:https://dronneetbelle.fr/wp-content/uploads/2024/06/Prospection-Libellules-22-23-juin-2024.jpg
END:VEVENT
BEGIN:VEVENT
DTSTART;VALUE=DATE:20240416
DTEND;VALUE=DATE:20240420
DTSTAMP:20260423T194528
CREATED:20240327T113741Z
LAST-MODIFIED:20240327T114454Z
UID:1800-1713225600-1713571199@dronneetbelle.fr
SUMMARY:Stage Théâtrale pour comédiens en herbe
DESCRIPTION:Explorez votre talent sur scène !\n \nLe théâtre est u lieu où les idées prennent vie\, où les émotions s’expriment et où les histoires prennent forme.Rejoignez-nous pour une expérience unique lors de notre stage de théâtre forum\, qui se tiendra du 16 au 19 avril à St Crépin de Richemont. Les jeunes auront l’opportunité passionnante de créer leur propre pièce de théâtre\, de la conception initiale à la représentation finale ! \n 
URL:https://dronneetbelle.fr/evenement/stage-theatre/
LOCATION:Saint Crépin de Richemont 24310\, Saint Crépin de Richemont\, 24310\, France
CATEGORIES:Culture
END:VEVENT
BEGIN:VEVENT
DTSTART;VALUE=DATE:20240405
DTEND;VALUE=DATE:20240407
DTSTAMP:20260423T194528
CREATED:20240327T114722Z
LAST-MODIFIED:20240327T115024Z
UID:1808-1712275200-1712447999@dronneetbelle.fr
SUMMARY:La Brocante des Trésors Cachés
DESCRIPTION:Venez dénichez vos matériaux !\nPlongez-vous dans l’univers fascinant de la réutilisation et de la récupération lors de notre événement spécial : la Brocante des Matériaux ! Prévue pour les 5 et 6 avril 2024\, cette brocante est l’endroit idéal pour dénicher des trésors cachés parmi les surplus de matériaux professionnels. Deux entreprises locales ont déjà confirmé leur participation\, promettant une sélection diversifiée. Que vous soyez un bricoleur passionné\, un artiste en herbe ou un amateur de décoration\, cette brocante offre une occasion exceptionnelle de trouver des matériaux uniques tout en contribuant à la réduction des déchets. \nRejoignez-nous pour deux jours d’exploration\, de découverte et de créativité ! \nTélécharger le document
URL:https://dronneetbelle.fr/evenement/la-brocante-des-tresors-caches/
END:VEVENT
BEGIN:VEVENT
DTSTART;TZID=Europe/Paris:20240328T183000
DTEND;TZID=Europe/Paris:20240328T200000
DTSTAMP:20260423T194528
CREATED:20240327T112046Z
LAST-MODIFIED:20240327T112046Z
UID:1795-1711650600-1711656000@dronneetbelle.fr
SUMMARY:Micro-Folie - Conférence
DESCRIPTION:Conférence Jeanne Pouplet\nConférencier : Philippe LECOMTE – Association 360°
URL:https://dronneetbelle.fr/evenement/micro-folie-conference/
LOCATION:2 Rue Puyjoli de Meyjousnissas\, 24310 Brantôme-en-Périgord\, 2 Rue Puyjoli de Meyjousnissas\, Brantôme\, 24310\, France
CATEGORIES:Micro-Folie
END:VEVENT
BEGIN:VEVENT
DTSTART;TZID=Europe/Paris:20240326T123000
DTEND;TZID=Europe/Paris:20240326T140000
DTSTAMP:20260423T194528
CREATED:20230314T111331Z
LAST-MODIFIED:20240327T110534Z
UID:107-1711456200-1711461600@dronneetbelle.fr
SUMMARY:Micro-Folie - Micro-causerie
DESCRIPTION:8 tears de Sanja Iveković – 12 h 30
URL:https://dronneetbelle.fr/evenement/micro-folie-micro-causerie/
LOCATION:2 Rue Puyjoli de Meyjousnissas\, 24310 Brantôme-en-Périgord\, 2 Rue Puyjoli de Meyjousnissas\, Brantôme\, 24310\, France
CATEGORIES:Micro-Folie
END:VEVENT
BEGIN:VEVENT
DTSTART;TZID=Europe/Paris:20240319T123000
DTEND;TZID=Europe/Paris:20240319T140000
DTSTAMP:20260423T194528
CREATED:20240327T111911Z
LAST-MODIFIED:20240327T111911Z
UID:1793-1710851400-1710856800@dronneetbelle.fr
SUMMARY:Micro-Folie - Visite libre
DESCRIPTION:Où sont les femmes ? – 12 h 30
URL:https://dronneetbelle.fr/evenement/micro-folie-visite-libre/
LOCATION:2 Rue Puyjoli de Meyjousnissas\, 24310 Brantôme-en-Périgord\, 2 Rue Puyjoli de Meyjousnissas\, Brantôme\, 24310\, France
CATEGORIES:Micro-Folie
END:VEVENT
BEGIN:VEVENT
DTSTART;TZID=Europe/Paris:20240312T123000
DTEND;TZID=Europe/Paris:20240312T140000
DTSTAMP:20260423T194528
CREATED:20240327T110249Z
LAST-MODIFIED:20240327T110624Z
UID:1774-1710246600-1710252000@dronneetbelle.fr
SUMMARY:Micro-Folie - Documentaire
DESCRIPTION:Les petits secrets des grands tableaux  \nMarie-Antoinette de Lorraine Habsbourg\, Elisabeth Vigée Le Brun – ARTE – 12 h 30
URL:https://dronneetbelle.fr/evenement/micro-folie-documentaire/
CATEGORIES:Micro-Folie
END:VEVENT
BEGIN:VEVENT
DTSTART;TZID=Europe/Paris:20240305T123000
DTEND;TZID=Europe/Paris:20240305T140000
DTSTAMP:20260423T194528
CREATED:20240327T110121Z
LAST-MODIFIED:20240327T110133Z
UID:1772-1709641800-1709647200@dronneetbelle.fr
SUMMARY:Micro-Folie - Réalité virtuelle
DESCRIPTION:Micro-Folie – Réalité virtuelle\nÂmes de danseuse et de musicienne à l’Opéra de Paris – 12 h 30
URL:https://dronneetbelle.fr/evenement/micro-folie-realite-virtuelle/
LOCATION:2 Rue Puyjoli de Meyjousnissas\, 24310 Brantôme-en-Périgord\, 2 Rue Puyjoli de Meyjousnissas\, Brantôme\, 24310\, France
CATEGORIES:Micro-Folie
END:VEVENT
END:VCALENDAR